{
 "currentVersion": 11.5,
 "serviceDescription": "GEOINFO/LidarCanopyHeightModel",
 "serviceItemId": "caa7bd1c3be84b9bb2592a7e6b4530d2",
 "name": "GEOINFO/LidarCanopyHeightModel",
 "description": "",
 "extent": {
  "xmin": 111899.98151999869,
  "ymin": 17594.773376000114,
  "xmax": 1030939.9815199987,
  "ymax": 548074.7733760001,
  "spatialReference": {
   "wkid": 103093,
   "latestWkid": 6514
  }
 },
 "initialExtent": {
  "xmin": 111899.98151999869,
  "ymin": 17594.773376000114,
  "xmax": 1030939.9815199987,
  "ymax": 548074.7733760001,
  "spatialReference": {
   "wkid": 103093,
   "latestWkid": 6514
  }
 },
 "fullExtent": {
  "xmin": 111899.98151999869,
  "ymin": 17594.773376000114,
  "xmax": 1030939.9815199987,
  "ymax": 548074.7733760001,
  "spatialReference": {
   "wkid": 103093,
   "latestWkid": 6514
  }
 },
 "sortableFields": "MinPS,MaxPS,LowPS,HighPS,CenterX,CenterY,ZOrder,Shape_Length,Shape_Area,LE90,CE90,Date_Start,Date_End,DEM_Type,Best,QualityLevel,SortDate",
 "bandCount": 1,
 "pixelType": "F32",
 "minValues": [
  0
 ],
 "maxValues": [
  50.72864532470703
 ],
 "meanValues": [
  2.0027747932023834
 ],
 "stdvValues": [
  3.68911681851996
 ],
 "serviceProperties": "ByAttribute<\/MosaicMethod>First<\/MosaicOperator>true<\/SortAscending><\/LockImageID>SortDate<\/TileOrderField>0<\/TileOrderBase>600.000000<\/AvgImageSpacingX>300.000000<\/AvgImageSpacingY>0.0<\/ViewPointX>0.0<\/ViewPointY>0.0<\/ViewPointDefShiftX>0.0<\/ViewPointDefShiftY>LERC<\/CompressionMethod>80<\/CompressionQuality>0.010000<\/CompressionTolerance>Bilinear<\/SamplingMethod><\/ImageServiceProperties><\/ImageServer>",
 "allowedFields": "Name,MinPS,MaxPS,LowPS,HighPS,Tag,GroupName,ProductName,CenterX,CenterY,ZOrder,Shape_Length,Shape_Area,LE90,CE90,Date_Start,Date_End,DEM_Type,Best,VerticalDatum,Dataset_ID,Source_URL,Link2Metadata,QualityLevel,MetadataLink,ReportLink,ProjectName,Project_Pkey,SortDate",
 "hasMultidimensions": false,
 "pixelSizeX": 1,
 "pixelSizeY": 1,
 "meanPixelSize": 1,
 "datasetFormat": "AMD",
 "uncompressedSize": 1950129356800,
 "blockWidth": 2048,
 "blockHeight": 256,
 "compressionType": "None",
 "bandNames": [
  "Band_1"
 ],
 "allowCopy": true,
 "allowAnalysis": true,
 "itemAccess": false,
 "inspectionCapabilities": "",
 "minPixelSize": 0,
 "maxPixelSize": 0,
 "copyrightText": "",
 "serviceDataType": "esriImageServiceDataTypeElevation",
 "serviceSourceType": "esriImageServiceSourceTypeMosaicDataset",
 "objectIdField": "OBJECTID",
 "fields": [
  {
   "name": "OBJECTID",
   "type": "esriFieldTypeOID",
   "alias": "OBJECTID",
   "domain": null
  },
  {
   "name": "Shape",
   "type": "esriFieldTypeGeometry",
   "alias": "Shape",
   "domain": null
  },
  {
   "name": "Name",
   "type": "esriFieldTypeString",
   "alias": "Name",
   "domain": null,
   "length": 200
  },
  {
   "name": "MinPS",
   "type": "esriFieldTypeDouble",
   "alias": "MinPS",
   "domain": null
  },
  {
   "name": "MaxPS",
   "type": "esriFieldTypeDouble",
   "alias": "MaxPS",
   "domain": null
  },
  {
   "name": "LowPS",
   "type": "esriFieldTypeDouble",
   "alias": "LowPS",
   "domain": null
  },
  {
   "name": "HighPS",
   "type": "esriFieldTypeDouble",
   "alias": "HighPS",
   "domain": null
  },
  {
   "name": "Category",
   "type": "esriFieldTypeInteger",
   "alias": "Category",
   "domain": {
    "type": "codedValue",
    "name": "MosaicCatalogItemCategoryDomain",
    "description": "Catalog item categories.",
    "codedValues": [
     {
      "name": "Unknown",
      "code": 0
     },
     {
      "name": "Primary",
      "code": 1
     },
     {
      "name": "Overview",
      "code": 2
     },
     {
      "name": "Unprocessed Overview",
      "code": 3
     },
     {
      "name": "Partial Overview",
      "code": 4
     },
     {
      "name": "Inactive",
      "code": 5
     },
     {
      "name": "Uploaded",
      "code": 253
     },
     {
      "name": "Incomplete",
      "code": 254
     },
     {
      "name": "Custom",
      "code": 255
     }
    ],
    "mergePolicy": "esriMPTDefaultValue",
    "splitPolicy": "esriSPTDefaultValue"
   }
  },
  {
   "name": "Tag",
   "type": "esriFieldTypeString",
   "alias": "Tag",
   "domain": null,
   "length": 100
  },
  {
   "name": "GroupName",
   "type": "esriFieldTypeString",
   "alias": "GroupName",
   "domain": null,
   "length": 100
  },
  {
   "name": "ProductName",
   "type": "esriFieldTypeString",
   "alias": "ProductName",
   "domain": null,
   "length": 100
  },
  {
   "name": "CenterX",
   "type": "esriFieldTypeDouble",
   "alias": "CenterX",
   "domain": null
  },
  {
   "name": "CenterY",
   "type": "esriFieldTypeDouble",
   "alias": "CenterY",
   "domain": null
  },
  {
   "name": "ZOrder",
   "type": "esriFieldTypeInteger",
   "alias": "ZOrder",
   "domain": null
  },
  {
   "name": "LE90",
   "type": "esriFieldTypeSingle",
   "alias": "LE90",
   "domain": null
  },
  {
   "name": "CE90",
   "type": "esriFieldTypeSingle",
   "alias": "CE90",
   "domain": null
  },
  {
   "name": "Date_Start",
   "type": "esriFieldTypeDate",
   "alias": "Date_Start",
   "domain": null,
   "length": 8
  },
  {
   "name": "Date_End",
   "type": "esriFieldTypeDate",
   "alias": "Date_End",
   "domain": null,
   "length": 8
  },
  {
   "name": "DEM_Type",
   "type": "esriFieldTypeSmallInteger",
   "alias": "DEM_Type",
   "domain": null
  },
  {
   "name": "Best",
   "type": "esriFieldTypeSingle",
   "alias": "Best",
   "domain": null
  },
  {
   "name": "VerticalDatum",
   "type": "esriFieldTypeString",
   "alias": "VerticalDatum",
   "domain": null,
   "length": 16
  },
  {
   "name": "Dataset_ID",
   "type": "esriFieldTypeString",
   "alias": "Dataset_ID",
   "domain": null,
   "length": 16
  },
  {
   "name": "Source_URL",
   "type": "esriFieldTypeString",
   "alias": "Source_URL",
   "domain": null,
   "length": 64
  },
  {
   "name": "Link2Metadata",
   "type": "esriFieldTypeString",
   "alias": "Link2Metadata",
   "domain": null,
   "length": 100
  },
  {
   "name": "QualityLevel",
   "type": "esriFieldTypeSmallInteger",
   "alias": "QualityLevel",
   "domain": null
  },
  {
   "name": "MetadataLink",
   "type": "esriFieldTypeString",
   "alias": "MetadataLink",
   "domain": null,
   "length": 500
  },
  {
   "name": "ReportLink",
   "type": "esriFieldTypeString",
   "alias": "ReportLink",
   "domain": null,
   "length": 500
  },
  {
   "name": "ProjectName",
   "type": "esriFieldTypeString",
   "alias": "ProjectName",
   "domain": null,
   "length": 100
  },
  {
   "name": "Project_Pkey",
   "type": "esriFieldTypeString",
   "alias": "Project_Pkey",
   "domain": null,
   "length": 50
  },
  {
   "name": "SortDate",
   "type": "esriFieldTypeSmallInteger",
   "alias": "SortDate",
   "domain": null
  },
  {
   "name": "Shape_Length",
   "type": "esriFieldTypeDouble",
   "alias": "Shape_Length",
   "domain": null
  },
  {
   "name": "Shape_Area",
   "type": "esriFieldTypeDouble",
   "alias": "Shape_Area",
   "domain": null
  }
 ],
 "capabilities": "Catalog,Image,Metadata",
 "defaultMosaicMethod": "ByAttribute",
 "allowedMosaicMethods": "ByAttribute,LockRaster,None",
 "sortField": "SortDate",
 "sortValue": "0",
 "sortAscending": true,
 "mosaicOperator": "First",
 "maxDownloadSizeLimit": 2048,
 "defaultCompressionQuality": 10000,
 "defaultResamplingMethod": "Bilinear",
 "maxImageHeight": 4100,
 "maxImageWidth": 15000,
 "maxRecordCount": 1000,
 "maxDownloadImageCount": 20,
 "maxMosaicImageCount": 20,
 "allowRasterFunction": true,
 "rasterFunctionInfos": [
  {
   "name": "CHM_RampBrowntoGreen",
   "description": "A raster function template.",
   "help": ""
  },
  {
   "name": "CHM_RampGrayscale",
   "description": "A raster function template.",
   "help": ""
  },
  {
   "name": "CHM_RampGrayscaleV3",
   "description": "A raster function template.",
   "help": ""
  },
  {
   "name": "None",
   "description": "A No-Op Function.",
   "help": ""
  }
 ],
 "rasterTypeInfos": [
  {
   "name": "Raster Dataset",
   "description": "Supports all ArcGIS Raster Datasets",
   "help": ""
  }
 ],
 "mensurationCapabilities": "None",
 "hasHistograms": true,
 "hasColormap": false,
 "hasRasterAttributeTable": false,
 "minScale": 0,
 "maxScale": 0,
 "exportTilesAllowed": false,
 "supportsStatistics": true,
 "supportsAdvancedQueries": true,
 "editFieldsInfo": null,
 "ownershipBasedAccessControlForRasters": null,
 "allowComputeTiePoints": false,
 "useStandardizedQueries": true,
 "advancedQueryCapabilities": {
  "useStandardizedQueries": true,
  "supportsStatistics": true,
  "supportsOrderBy": true,
  "supportsDistinct": true,
  "supportsPagination": true
 },
 "spatialReference": {
  "wkid": 103093,
  "latestWkid": 6514
 },
 "resampling": false
}
