{
 "currentVersion": 11.5,
 "serviceDescription": "GEOINFO/LidarDigitalSurfaceModel",
 "serviceItemId": "dc0820e90b58482b9cd0dfe51af3f416",
 "name": "GEOINFO/LidarDigitalSurfaceModel",
 "description": "",
 "extent": {
  "xmin": 111900.19077599968,
  "ymin": 17594.69120800146,
  "xmax": 1030940.1907759997,
  "ymax": 548075.6912080015,
  "spatialReference": {
   "wkid": 103093,
   "latestWkid": 6514
  }
 },
 "initialExtent": {
  "xmin": 111900.19077599968,
  "ymin": 17594.69120800146,
  "xmax": 1030940.1907759997,
  "ymax": 548075.6912080015,
  "spatialReference": {
   "wkid": 103093,
   "latestWkid": 6514
  }
 },
 "fullExtent": {
  "xmin": 111900.19077599968,
  "ymin": 17594.69120800146,
  "xmax": 1030940.1907759997,
  "ymax": 548075.6912080015,
  "spatialReference": {
   "wkid": 103093,
   "latestWkid": 6514
  }
 },
 "sortableFields": "MinPS,MaxPS,LowPS,HighPS,CenterX,CenterY,ZOrder,Shape_Length,Shape_Area,LE90,CE90,Date_Start,Date_End,DEM_Type,Best,QualityLevel,SortDate",
 "bandCount": 1,
 "pixelType": "F32",
 "minValues": [
  554.7349853515625
 ],
 "maxValues": [
  3718.763671875
 ],
 "meanValues": [
  1249.70923085267
 ],
 "stdvValues": [
  505.5174466559579
 ],
 "serviceProperties": "ByAttribute<\/MosaicMethod>First<\/MosaicOperator>false<\/SortAscending><\/LockImageID>Date_End<\/TileOrderField>0<\/TileOrderBase>600.000000<\/AvgImageSpacingX>300.000000<\/AvgImageSpacingY>0.0<\/ViewPointX>0.0<\/ViewPointY>0.0<\/ViewPointDefShiftX>0.0<\/ViewPointDefShiftY>LERC<\/CompressionMethod>80<\/CompressionQuality>0.010000<\/CompressionTolerance>Bilinear<\/SamplingMethod><\/ImageServiceProperties><\/ImageServer>",
 "allowedFields": "Name,MinPS,MaxPS,LowPS,HighPS,Tag,GroupName,ProductName,CenterX,CenterY,ZOrder,Shape_Length,Shape_Area,LE90,CE90,Date_Start,Date_End,DEM_Type,Best,VerticalDatum,Dataset_ID,Source_URL,Link2Metadata,QualityLevel,MetadataLink,ReportLink,ProjectName,Project_Pkey,SortDate",
 "hasMultidimensions": false,
 "pixelSizeX": 1,
 "pixelSizeY": 1,
 "meanPixelSize": 1,
 "datasetFormat": "AMD",
 "uncompressedSize": 1950133032960,
 "blockWidth": 2048,
 "blockHeight": 256,
 "compressionType": "None",
 "bandNames": [
  "Band_1"
 ],
 "allowCopy": true,
 "allowAnalysis": true,
 "itemAccess": false,
 "inspectionCapabilities": "",
 "minPixelSize": 0,
 "maxPixelSize": 0,
 "copyrightText": "",
 "serviceDataType": "esriImageServiceDataTypeElevation",
 "serviceSourceType": "esriImageServiceSourceTypeMosaicDataset",
 "objectIdField": "OBJECTID",
 "fields": [
  {
   "name": "OBJECTID",
   "type": "esriFieldTypeOID",
   "alias": "OBJECTID",
   "domain": null
  },
  {
   "name": "Shape",
   "type": "esriFieldTypeGeometry",
   "alias": "Shape",
   "domain": null
  },
  {
   "name": "Name",
   "type": "esriFieldTypeString",
   "alias": "Name",
   "domain": null,
   "length": 200
  },
  {
   "name": "MinPS",
   "type": "esriFieldTypeDouble",
   "alias": "MinPS",
   "domain": null
  },
  {
   "name": "MaxPS",
   "type": "esriFieldTypeDouble",
   "alias": "MaxPS",
   "domain": null
  },
  {
   "name": "LowPS",
   "type": "esriFieldTypeDouble",
   "alias": "LowPS",
   "domain": null
  },
  {
   "name": "HighPS",
   "type": "esriFieldTypeDouble",
   "alias": "HighPS",
   "domain": null
  },
  {
   "name": "Category",
   "type": "esriFieldTypeInteger",
   "alias": "Category",
   "domain": {
    "type": "codedValue",
    "name": "MosaicCatalogItemCategoryDomain",
    "description": "Catalog item categories.",
    "codedValues": [
     {
      "name": "Unknown",
      "code": 0
     },
     {
      "name": "Primary",
      "code": 1
     },
     {
      "name": "Overview",
      "code": 2
     },
     {
      "name": "Unprocessed Overview",
      "code": 3
     },
     {
      "name": "Partial Overview",
      "code": 4
     },
     {
      "name": "Inactive",
      "code": 5
     },
     {
      "name": "Uploaded",
      "code": 253
     },
     {
      "name": "Incomplete",
      "code": 254
     },
     {
      "name": "Custom",
      "code": 255
     }
    ],
    "mergePolicy": "esriMPTDefaultValue",
    "splitPolicy": "esriSPTDefaultValue"
   }
  },
  {
   "name": "Tag",
   "type": "esriFieldTypeString",
   "alias": "Tag",
   "domain": null,
   "length": 100
  },
  {
   "name": "GroupName",
   "type": "esriFieldTypeString",
   "alias": "GroupName",
   "domain": null,
   "length": 100
  },
  {
   "name": "ProductName",
   "type": "esriFieldTypeString",
   "alias": "ProductName",
   "domain": null,
   "length": 100
  },
  {
   "name": "CenterX",
   "type": "esriFieldTypeDouble",
   "alias": "CenterX",
   "domain": null
  },
  {
   "name": "CenterY",
   "type": "esriFieldTypeDouble",
   "alias": "CenterY",
   "domain": null
  },
  {
   "name": "ZOrder",
   "type": "esriFieldTypeInteger",
   "alias": "ZOrder",
   "domain": null
  },
  {
   "name": "LE90",
   "type": "esriFieldTypeSingle",
   "alias": "LE90",
   "domain": null
  },
  {
   "name": "CE90",
   "type": "esriFieldTypeSingle",
   "alias": "CE90",
   "domain": null
  },
  {
   "name": "Date_Start",
   "type": "esriFieldTypeDate",
   "alias": "Date_Start",
   "domain": null,
   "length": 8
  },
  {
   "name": "Date_End",
   "type": "esriFieldTypeDate",
   "alias": "Date_End",
   "domain": null,
   "length": 8
  },
  {
   "name": "DEM_Type",
   "type": "esriFieldTypeSmallInteger",
   "alias": "DEM_Type",
   "domain": null
  },
  {
   "name": "Best",
   "type": "esriFieldTypeSingle",
   "alias": "Best",
   "domain": null
  },
  {
   "name": "VerticalDatum",
   "type": "esriFieldTypeString",
   "alias": "VerticalDatum",
   "domain": null,
   "length": 16
  },
  {
   "name": "Dataset_ID",
   "type": "esriFieldTypeString",
   "alias": "Dataset_ID",
   "domain": null,
   "length": 16
  },
  {
   "name": "Source_URL",
   "type": "esriFieldTypeString",
   "alias": "Source_URL",
   "domain": null,
   "length": 64
  },
  {
   "name": "Link2Metadata",
   "type": "esriFieldTypeString",
   "alias": "Link2Metadata",
   "domain": null,
   "length": 100
  },
  {
   "name": "QualityLevel",
   "type": "esriFieldTypeSmallInteger",
   "alias": "QualityLevel",
   "domain": null
  },
  {
   "name": "MetadataLink",
   "type": "esriFieldTypeString",
   "alias": "MetadataLink",
   "domain": null,
   "length": 500
  },
  {
   "name": "ReportLink",
   "type": "esriFieldTypeString",
   "alias": "ReportLink",
   "domain": null,
   "length": 500
  },
  {
   "name": "ProjectName",
   "type": "esriFieldTypeString",
   "alias": "ProjectName",
   "domain": null,
   "length": 100
  },
  {
   "name": "Project_Pkey",
   "type": "esriFieldTypeString",
   "alias": "Project_Pkey",
   "domain": null,
   "length": 50
  },
  {
   "name": "SortDate",
   "type": "esriFieldTypeSmallInteger",
   "alias": "SortDate",
   "domain": null
  },
  {
   "name": "Shape_Length",
   "type": "esriFieldTypeDouble",
   "alias": "Shape_Length",
   "domain": null
  },
  {
   "name": "Shape_Area",
   "type": "esriFieldTypeDouble",
   "alias": "Shape_Area",
   "domain": null
  }
 ],
 "capabilities": "Catalog,Image,Metadata",
 "defaultMosaicMethod": "ByAttribute",
 "allowedMosaicMethods": "ByAttribute,LockRaster,None",
 "sortField": "Date_End",
 "sortValue": "0",
 "sortAscending": false,
 "mosaicOperator": "First",
 "maxDownloadSizeLimit": 2048,
 "defaultCompressionQuality": 10000,
 "defaultResamplingMethod": "Bilinear",
 "maxImageHeight": 4100,
 "maxImageWidth": 15000,
 "maxRecordCount": 1000,
 "maxDownloadImageCount": 20,
 "maxMosaicImageCount": 20,
 "allowRasterFunction": true,
 "rasterFunctionInfos": [
  {
   "name": "None",
   "description": "Make a Raster or Raster Dataset into a Function Raster Dataset.",
   "help": ""
  },
  {
   "name": "Aspect",
   "description": "A raster function template.",
   "help": ""
  },
  {
   "name": "AspectColor",
   "description": "A raster function template.",
   "help": ""
  },
  {
   "name": "AspectColorMap",
   "description": "A raster function template.",
   "help": ""
  },
  {
   "name": "AspectColorMapALT",
   "description": "A raster function template.",
   "help": ""
  },
  {
   "name": "AspectColor_value",
   "description": "A raster function template.",
   "help": ""
  },
  {
   "name": "ContourLines1foot",
   "description": "Bare Earth Contour Lines",
   "help": ""
  },
  {
   "name": "ContoursLines1meter",
   "description": "ContoursLines1meter",
   "help": ""
  },
  {
   "name": "ContourLines2feet",
   "description": "Bare Earth Contour Lines",
   "help": ""
  },
  {
   "name": "HillshadeMultidirectional",
   "description": "A raster function template.",
   "help": ""
  },
  {
   "name": "HillshadeSwissColor",
   "description": "A raster function template.",
   "help": ""
  },
  {
   "name": "HillshadeTraditional",
   "description": "A raster function template.",
   "help": ""
  },
  {
   "name": "metersToFeet",
   "description": "A raster function template.",
   "help": ""
  },
  {
   "name": "PercentSlope_checked",
   "description": "A raster function template.",
   "help": ""
  },
  {
   "name": "ShadedReliefv1",
   "description": "A raster function template.",
   "help": ""
  },
  {
   "name": "ShadedReliefv2",
   "description": "A raster function template.",
   "help": ""
  },
  {
   "name": "ShadedReliefv3",
   "description": "A raster function template.",
   "help": ""
  },
  {
   "name": "SlopeColorF1",
   "description": "A raster function template.",
   "help": ""
  },
  {
   "name": "SlopeValue",
   "description": "A raster function template.",
   "help": ""
  }
 ],
 "rasterTypeInfos": [
  {
   "name": "Raster Dataset",
   "description": "Supports all ArcGIS Raster Datasets",
   "help": ""
  }
 ],
 "mensurationCapabilities": "None",
 "hasHistograms": true,
 "hasColormap": false,
 "hasRasterAttributeTable": false,
 "minScale": 0,
 "maxScale": 0,
 "exportTilesAllowed": false,
 "supportsStatistics": true,
 "supportsAdvancedQueries": true,
 "editFieldsInfo": null,
 "ownershipBasedAccessControlForRasters": null,
 "allowComputeTiePoints": false,
 "useStandardizedQueries": true,
 "advancedQueryCapabilities": {
  "useStandardizedQueries": true,
  "supportsStatistics": true,
  "supportsOrderBy": true,
  "supportsDistinct": true,
  "supportsPagination": true
 },
 "spatialReference": {
  "wkid": 103093,
  "latestWkid": 6514
 },
 "resampling": false
}
