{
 "currentVersion": 11.5,
 "serviceDescription": "GEOINFO/LidarRelativeElevationModel",
 "serviceItemId": "b7adba36cf7641d98ef93c033d23a3fc",
 "name": "GEOINFO/LidarRelativeElevationModel",
 "description": "",
 "extent": {
  "xmin": 221849.58698000005,
  "ymin": 107437.11728,
  "xmax": 731476.5890600001,
  "ymax": 470408.13632000005,
  "spatialReference": {
   "wkid": 103093,
   "latestWkid": 6514
  }
 },
 "initialExtent": {
  "xmin": 221849.58698000005,
  "ymin": 107437.11728,
  "xmax": 731476.5890600001,
  "ymax": 470408.13632000005,
  "spatialReference": {
   "wkid": 103093,
   "latestWkid": 6514
  }
 },
 "fullExtent": {
  "xmin": 221849.58698000005,
  "ymin": 107437.11728,
  "xmax": 731476.5890600001,
  "ymax": 470408.13632000005,
  "spatialReference": {
   "wkid": 103093,
   "latestWkid": 6514
  }
 },
 "sortableFields": "MinPS,MaxPS,LowPS,HighPS,CenterX,CenterY,ZOrder,Shape_Length,Shape_Area,TypeID_1,ItemTS_1",
 "bandCount": 1,
 "pixelType": "F32",
 "minValues": [
  -23.157703399658203
 ],
 "maxValues": [
  693.2257690429688
 ],
 "meanValues": [
  9.110880265690817
 ],
 "stdvValues": [
  19.95757618628616
 ],
 "serviceProperties": "NorthWest<\/MosaicMethod>First<\/MosaicOperator>true<\/SortAscending><\/LockImageID>Name<\/TileOrderField>0<\/TileOrderBase>600.000000<\/AvgImageSpacingX>300.000000<\/AvgImageSpacingY>0.0<\/ViewPointX>0.0<\/ViewPointY>0.0<\/ViewPointDefShiftX>0.0<\/ViewPointDefShiftY>None<\/CompressionMethod>75<\/CompressionQuality>0.010000<\/CompressionTolerance>Bilinear<\/SamplingMethod><\/ImageServiceProperties><\/ImageServer>",
 "allowedFields": "Name,MinPS,MaxPS,LowPS,HighPS,Tag,GroupName,ProductName,CenterX,CenterY,ZOrder,Shape_Length,Shape_Area,TypeID_1,ItemTS_1,UriHash_1,Project_Pkey,RiverStreamName",
 "hasMultidimensions": false,
 "pixelSizeX": 0.4267200000000001,
 "pixelSizeY": 0.42672000000000004,
 "meanPixelSize": 0.4267200000000001,
 "datasetFormat": "AMD",
 "uncompressedSize": 4063482333692,
 "blockWidth": 2048,
 "blockHeight": 256,
 "compressionType": "None",
 "bandNames": [
  "Band_1"
 ],
 "allowCopy": true,
 "allowAnalysis": true,
 "itemAccess": false,
 "inspectionCapabilities": "",
 "minPixelSize": 0,
 "maxPixelSize": 0,
 "copyrightText": "",
 "serviceDataType": "esriImageServiceDataTypeGeneric",
 "serviceSourceType": "esriImageServiceSourceTypeMosaicDataset",
 "objectIdField": "OBJECTID",
 "fields": [
  {
   "name": "OBJECTID",
   "type": "esriFieldTypeOID",
   "alias": "OBJECTID",
   "domain": null
  },
  {
   "name": "Shape",
   "type": "esriFieldTypeGeometry",
   "alias": "Shape",
   "domain": null
  },
  {
   "name": "Name",
   "type": "esriFieldTypeString",
   "alias": "Name",
   "domain": null,
   "length": 200
  },
  {
   "name": "MinPS",
   "type": "esriFieldTypeDouble",
   "alias": "MinPS",
   "domain": null
  },
  {
   "name": "MaxPS",
   "type": "esriFieldTypeDouble",
   "alias": "MaxPS",
   "domain": null
  },
  {
   "name": "LowPS",
   "type": "esriFieldTypeDouble",
   "alias": "LowPS",
   "domain": null
  },
  {
   "name": "HighPS",
   "type": "esriFieldTypeDouble",
   "alias": "HighPS",
   "domain": null
  },
  {
   "name": "Category",
   "type": "esriFieldTypeInteger",
   "alias": "Category",
   "domain": {
    "type": "codedValue",
    "name": "MosaicCatalogItemCategoryDomain",
    "description": "Catalog item categories.",
    "codedValues": [
     {
      "name": "Unknown",
      "code": 0
     },
     {
      "name": "Primary",
      "code": 1
     },
     {
      "name": "Overview",
      "code": 2
     },
     {
      "name": "Unprocessed Overview",
      "code": 3
     },
     {
      "name": "Partial Overview",
      "code": 4
     },
     {
      "name": "Inactive",
      "code": 5
     },
     {
      "name": "Uploaded",
      "code": 253
     },
     {
      "name": "Incomplete",
      "code": 254
     },
     {
      "name": "Custom",
      "code": 255
     }
    ],
    "mergePolicy": "esriMPTDefaultValue",
    "splitPolicy": "esriSPTDefaultValue"
   }
  },
  {
   "name": "Tag",
   "type": "esriFieldTypeString",
   "alias": "Tag",
   "domain": null,
   "length": 100
  },
  {
   "name": "GroupName",
   "type": "esriFieldTypeString",
   "alias": "GroupName",
   "domain": null,
   "length": 100
  },
  {
   "name": "ProductName",
   "type": "esriFieldTypeString",
   "alias": "ProductName",
   "domain": null,
   "length": 100
  },
  {
   "name": "CenterX",
   "type": "esriFieldTypeDouble",
   "alias": "CenterX",
   "domain": null
  },
  {
   "name": "CenterY",
   "type": "esriFieldTypeDouble",
   "alias": "CenterY",
   "domain": null
  },
  {
   "name": "ZOrder",
   "type": "esriFieldTypeInteger",
   "alias": "ZOrder",
   "domain": null
  },
  {
   "name": "Shape_Length",
   "type": "esriFieldTypeDouble",
   "alias": "Shape_Length",
   "domain": null
  },
  {
   "name": "Shape_Area",
   "type": "esriFieldTypeDouble",
   "alias": "Shape_Area",
   "domain": null
  },
  {
   "name": "TypeID_1",
   "type": "esriFieldTypeInteger",
   "alias": "Raster Type ID",
   "domain": null
  },
  {
   "name": "ItemTS_1",
   "type": "esriFieldTypeDouble",
   "alias": "ItemTS_1",
   "domain": null
  },
  {
   "name": "UriHash_1",
   "type": "esriFieldTypeString",
   "alias": "UriHash_1",
   "domain": null,
   "length": 50
  },
  {
   "name": "Project_Pkey",
   "type": "esriFieldTypeString",
   "alias": "Project_Pkey",
   "domain": null,
   "length": 50
  },
  {
   "name": "RiverStreamName",
   "type": "esriFieldTypeString",
   "alias": "RiverStreamName",
   "domain": null,
   "length": 50
  }
 ],
 "capabilities": "Catalog,Image,Metadata",
 "defaultMosaicMethod": "Northwest",
 "allowedMosaicMethods": "NorthWest,Center,LockRaster,ByAttribute,Nadir,Viewpoint,Seamline,None",
 "sortField": "",
 "sortValue": null,
 "sortAscending": true,
 "mosaicOperator": "First",
 "maxDownloadSizeLimit": 2048,
 "defaultCompressionQuality": 75,
 "defaultResamplingMethod": "Bilinear",
 "maxImageHeight": 4100,
 "maxImageWidth": 15000,
 "maxRecordCount": 1000,
 "maxDownloadImageCount": 20,
 "maxMosaicImageCount": 45,
 "allowRasterFunction": true,
 "rasterFunctionInfos": [
  {
   "name": "None",
   "description": "Make a Raster or Raster Dataset into a Function Raster Dataset.",
   "help": ""
  },
  {
   "name": "Stretched - BlueGreen",
   "description": "Stretched Continuous Classification",
   "help": ""
  },
  {
   "name": "Stretched - Meters",
   "description": "A raster function template.",
   "help": ""
  },
  {
   "name": "Stretched - Oslo Trans",
   "description": "Stretched Symbology",
   "help": ""
  },
  {
   "name": "Stretched - Turbid",
   "description": "Stretched Continuous Classification",
   "help": ""
  }
 ],
 "rasterTypeInfos": [
  {
   "name": "Raster Dataset",
   "description": "Supports all ArcGIS Raster Datasets",
   "help": ""
  }
 ],
 "mensurationCapabilities": "None",
 "hasHistograms": true,
 "hasColormap": false,
 "hasRasterAttributeTable": false,
 "minScale": 0,
 "maxScale": 0,
 "exportTilesAllowed": false,
 "supportsStatistics": true,
 "supportsAdvancedQueries": true,
 "editFieldsInfo": null,
 "ownershipBasedAccessControlForRasters": null,
 "allowComputeTiePoints": false,
 "useStandardizedQueries": true,
 "advancedQueryCapabilities": {
  "useStandardizedQueries": true,
  "supportsStatistics": true,
  "supportsOrderBy": true,
  "supportsDistinct": true,
  "supportsPagination": true
 },
 "spatialReference": {
  "wkid": 103093,
  "latestWkid": 6514
 },
 "resampling": false
}
