{
 "currentVersion": 11.5,
 "serviceDescription": "Based on inductive modeling of 16 species of reptiles. Data are binned into 10 quantiles (equal area categories), with 1 having the lowest number of species predicted to be present and 10 having the greatest number.",
 "serviceItemId": "c60a9ea883e642ffa62d963788f517ae",
 "name": "NHP/Reptile_Biodiversity",
 "description": "Based on inductive modeling of 16 species of reptiles. Data are binned into 10 quantiles (equal area categories), with 1 having the lowest number of species predicted to be present and 10 having the greatest number.",
 "extent": {
  "xmin": 103450.98067646346,
  "ymin": 11771.012471508933,
  "xmax": 1041340.9806764635,
  "ymax": 556001.0124715089,
  "spatialReference": {
   "wkid": 32100,
   "latestWkid": 32100
  }
 },
 "initialExtent": {
  "xmin": 103450.98067646346,
  "ymin": 11771.012471508933,
  "xmax": 1041340.9806764635,
  "ymax": 556001.0124715089,
  "spatialReference": {
   "wkid": 32100,
   "latestWkid": 32100
  }
 },
 "fullExtent": {
  "xmin": 103450.98067646346,
  "ymin": 11771.012471508933,
  "xmax": 1041340.9806764635,
  "ymax": 556001.0124715089,
  "spatialReference": {
   "wkid": 32100,
   "latestWkid": 32100
  }
 },
 "sortableFields": "",
 "bandCount": 3,
 "pixelType": "U8",
 "minValues": [],
 "maxValues": [],
 "meanValues": [],
 "stdvValues": [],
 "serviceProperties": "Center<\/MosaicMethod>First<\/MosaicOperator>true<\/SortAscending><\/LockImageID><\/TileOrderField>0<\/TileOrderBase>0.000000<\/AvgImageSpacingX>0.000000<\/AvgImageSpacingY>0.0<\/ViewPointX>0.0<\/ViewPointY>0.0<\/ViewPointDefShiftX>0.0<\/ViewPointDefShiftY>None<\/CompressionMethod>75<\/CompressionQuality>0.010000<\/CompressionTolerance>Bilinear<\/SamplingMethod><\/ImageServiceProperties><\/ImageServer>",
 "allowedFields": "",
 "hasMultidimensions": false,
 "pixelSizeX": 90,
 "pixelSizeY": 90,
 "meanPixelSize": 90,
 "datasetFormat": "FGDBR",
 "uncompressedSize": 189047361,
 "blockWidth": 128,
 "blockHeight": 128,
 "compressionType": "LZ77",
 "bandNames": [
  "Band_1"
 ],
 "allowCopy": true,
 "allowAnalysis": true,
 "itemAccess": false,
 "inspectionCapabilities": "",
 "noDataValue": 256,
 "noDataValues": [
  256,
  256,
  256
 ],
 "minPixelSize": 0,
 "maxPixelSize": 0,
 "copyrightText": "MTNHP",
 "serviceDataType": "esriImageServiceDataTypeRGB",
 "serviceSourceType": "esriImageServiceSourceTypeDataset",
 "objectIdField": "",
 "fields": [],
 "capabilities": "Mensuration,Image,Metadata",
 "defaultMosaicMethod": "Center",
 "allowedMosaicMethods": "",
 "sortField": "",
 "sortValue": null,
 "sortAscending": true,
 "mosaicOperator": "First",
 "defaultCompressionQuality": 75,
 "defaultResamplingMethod": "Bilinear",
 "maxImageHeight": 4100,
 "maxImageWidth": 15000,
 "allowRasterFunction": true,
 "rasterFunctionInfos": [
  {
   "name": "None",
   "description": "",
   "help": ""
  }
 ],
 "rasterTypeInfos": [
  {
   "name": "Raster Dataset",
   "description": "Supports all ArcGIS Raster Datasets",
   "help": ""
  }
 ],
 "mensurationCapabilities": "Basic",
 "hasHistograms": false,
 "hasColormap": false,
 "hasRasterAttributeTable": false,
 "minScale": 0,
 "maxScale": 0,
 "exportTilesAllowed": false,
 "supportsStatistics": false,
 "supportsAdvancedQueries": false,
 "editFieldsInfo": null,
 "ownershipBasedAccessControlForRasters": null,
 "allowComputeTiePoints": false,
 "useStandardizedQueries": true,
 "advancedQueryCapabilities": {
  "useStandardizedQueries": true,
  "supportsStatistics": false,
  "supportsOrderBy": false,
  "supportsDistinct": false,
  "supportsPagination": false
 },
 "spatialReference": {
  "wkid": 32100,
  "latestWkid": 32100
 },
 "resampling": false
}
