View In:
ArcGIS JavaScript
ArcGIS Online Map Viewer
ArcGIS Earth
Service Description: GEOINFO/LidarBareEarthDigitalElevationModel
Name: GEOINFO/LidarBareEarthDigitalElevationModel
Description:
Single Fused Map Cache: false
Extent:
XMin: 111899.7639999991
YMin: 17595.295999994967
XMax: 1030940.763999999
YMax: 548075.295999995
Spatial Reference: 103093
(6514)
LatestVCSWkid(0)
Initial Extent:
XMin: 111899.7639999991
YMin: 17595.295999994967
XMax: 1030940.763999999
YMax: 548075.295999995
Spatial Reference: 103093
(6514)
LatestVCSWkid(0)
Full Extent:
XMin: 111899.7639999991
YMin: 17595.295999994967
XMax: 1030940.763999999
YMax: 548075.295999995
Spatial Reference: 103093
(6514)
LatestVCSWkid(0)
Pixel Size X: 1.0
Pixel Size Y: 1.0
Band Count: 1
Pixel Type: F32
RasterFunction Infos: {"rasterFunctionInfos": [
{
"name": "None",
"description": "Make a Raster or Raster Dataset into a Function Raster Dataset.",
"help": ""
},
{
"name": "HillshadeTraditional",
"description": "A raster function template.",
"help": ""
},
{
"name": "Aspect",
"description": "A raster function template.",
"help": ""
},
{
"name": "AspectColor",
"description": "A raster function template.",
"help": ""
},
{
"name": "AspectColorMap",
"description": "A raster function template.",
"help": ""
},
{
"name": "AspectColorMapALT",
"description": "A raster function template.",
"help": ""
},
{
"name": "AspectColor_value",
"description": "A raster function template.",
"help": ""
},
{
"name": "ContourLines1foot",
"description": "Bare Earth Contour Lines",
"help": ""
},
{
"name": "ContoursLines1meter",
"description": "ContoursLines1meter",
"help": ""
},
{
"name": "ContourLines2feet",
"description": "Bare Earth Contour Lines",
"help": ""
},
{
"name": "HillshadeMultidirectional",
"description": "A raster function template.",
"help": ""
},
{
"name": "HillshadeSwissColor",
"description": "A raster function template.",
"help": ""
},
{
"name": "metersToFeet",
"description": "A raster function template.",
"help": ""
},
{
"name": "ShadedReliefv1",
"description": "A raster function template.",
"help": ""
},
{
"name": "ShadedReliefv2",
"description": "A raster function template.",
"help": ""
},
{
"name": "ShadedReliefv3",
"description": "A raster function template.",
"help": ""
},
{
"name": "SlopeColorF1",
"description": "A raster function template.",
"help": ""
},
{
"name": "SlopeValue",
"description": "A raster function template.",
"help": ""
},
{
"name": "PercentSlope_checked",
"description": "A raster function template.",
"help": ""
}
]}
Mensuration Capabilities: None
Inspection Capabilities:
Has Histograms: true
Has Colormap: false
Has Multi Dimensions : false
Rendering Rule:
Min Scale: 0
Max Scale: 0
Resampling: false
Copyright Text:
Service Data Type: esriImageServiceDataTypeGeneric
Min Values: 554.8887939453125
Max Values: 3716.79150390625
Mean Values: 1247.6145685704078
Standard Deviation Values: 503.97517593294157
Object ID Field: OBJECTID
Fields:
-
OBJECTID
(
type: esriFieldTypeOID, alias: OBJECTID
)
-
Shape
(
type: esriFieldTypeGeometry, alias: Shape
)
-
Name
(
type: esriFieldTypeString, alias: Name, length: 200
)
-
MinPS
(
type: esriFieldTypeDouble, alias: MinPS
)
-
MaxPS
(
type: esriFieldTypeDouble, alias: MaxPS
)
-
LowPS
(
type: esriFieldTypeDouble, alias: LowPS
)
-
HighPS
(
type: esriFieldTypeDouble, alias: HighPS
)
-
Category
(
type: esriFieldTypeInteger, alias: Category
, Coded Values:
[0: Unknown]
, [1: Primary]
, [2: Overview]
, ...6 more...
)
-
Tag
(
type: esriFieldTypeString, alias: Tag, length: 100
)
-
GroupName
(
type: esriFieldTypeString, alias: GroupName, length: 100
)
-
ProductName
(
type: esriFieldTypeString, alias: ProductName, length: 100
)
-
CenterX
(
type: esriFieldTypeDouble, alias: CenterX
)
-
CenterY
(
type: esriFieldTypeDouble, alias: CenterY
)
-
ZOrder
(
type: esriFieldTypeInteger, alias: ZOrder
)
-
LE90
(
type: esriFieldTypeSingle, alias: LE90
)
-
CE90
(
type: esriFieldTypeSingle, alias: CE90
)
-
Date_Start
(
type: esriFieldTypeDate, alias: Date_Start, length: 8
)
-
Date_End
(
type: esriFieldTypeDate, alias: Date_End, length: 8
)
-
DEM_Type
(
type: esriFieldTypeSmallInteger, alias: DEM_Type
)
-
Best
(
type: esriFieldTypeSingle, alias: Best
)
-
VerticalDatum
(
type: esriFieldTypeString, alias: VerticalDatum, length: 16
)
-
Dataset_ID
(
type: esriFieldTypeString, alias: Dataset_ID, length: 16
)
-
Source_URL
(
type: esriFieldTypeString, alias: Source_URL, length: 64
)
-
Link2Metadata
(
type: esriFieldTypeString, alias: Link2Metadata, length: 100
)
-
Shape_Length
(
type: esriFieldTypeDouble, alias: Shape_Length
)
-
Shape_Area
(
type: esriFieldTypeDouble, alias: Shape_Area
)
-
QualityLevel
(
type: esriFieldTypeSmallInteger, alias: QualityLevel
)
-
MetadataLink
(
type: esriFieldTypeString, alias: MetadataLink, length: 500
)
-
ReportLink
(
type: esriFieldTypeString, alias: ReportLink, length: 500
)
-
ProjectName
(
type: esriFieldTypeString, alias: ProjectName, length: 100
)
-
Project_Pkey
(
type: esriFieldTypeString, alias: Project_Pkey, length: 50
)
-
SortDate
(
type: esriFieldTypeDouble, alias: SortDate
)
Default Mosaic Method: ByAttribute
Allowed Mosaic Methods: ByAttribute,LockRaster,None
SortField: SortDate
SortValue: 0
Mosaic Operator: First
Default Compression Quality: 10000
Default Resampling Method: Bilinear
Max Record Count: 1000
Max Image Height: 530480
Max Image Width: 919041
Max Download Image Count: 20
Max Mosaic Image Count: 20
Allow Raster Function: true
Allow Copy: true
Allow Analysis: true
Allow Compute TiePoints: false
Supports Statistics: true
Supports Advanced Queries: true
Use StandardizedQueries: true
Raster Type Infos:
Name: Raster Dataset
Description: Supports all ArcGIS Raster Datasets
Help:
Has Raster Attribute Table: false
Edit Fields Info: null
Ownership Based AccessControl For Rasters: null
Child Resources:
Info
Histograms
Statistics
Key Properties
Legend
Raster Function Infos
Supported Operations:
Export Image
Query
Identify
Compute Histograms
Compute Statistics Histograms
Get Samples
Compute Class Statistics
Query GPS Info
Find Images
Image to Map
Map to Image
Measure from Image
Image to Map Multiray
Query Boundary
Compute Pixel Location
Compute Angles
Validate
Project