View In:
ArcGIS JavaScript
ArcGIS Online Map Viewer
ArcGIS Earth
Service Description: GEOINFO/Yellowstone_River_Post_Flood_Imagery_Park_County_2023
Name: GEOINFO/Yellowstone_River_Post_Flood_Imagery_Park_County_2023
Description:
Single Fused Map Cache: false
Extent:
XMin: 507385.0
YMin: 4985952.0
XMax: 560784.5
YMax: 5067417.0
Spatial Reference: 32612
(32612)
LatestVCSWkid(0)
Initial Extent:
XMin: 507385.0
YMin: 4985952.0
XMax: 560784.5
YMax: 5067417.0
Spatial Reference: 32612
(32612)
LatestVCSWkid(0)
Full Extent:
XMin: 507385.0
YMin: 4985952.0
XMax: 560784.5
YMax: 5067417.0
Spatial Reference: 32612
(32612)
LatestVCSWkid(0)
Pixel Size X: 0.5
Pixel Size Y: 0.5
Band Count: 4
Pixel Type: U8
RasterFunction Infos: {"rasterFunctionInfos": [{
"name": "None",
"description": "",
"help": ""
}]}
Mensuration Capabilities: Basic
Inspection Capabilities:
Has Histograms: true
Has Colormap: false
Has Multi Dimensions : false
Rendering Rule:
Min Scale: 0
Max Scale: 0
Copyright Text:
Service Data Type: esriImageServiceDataTypeGeneric
Min Values: 1, 1, 1, 1
Max Values: 255, 255, 255, 255
Mean Values: 88.127453383309, 108.20294450704, 103.47029685425, 146.04159889465
Standard Deviation Values: 32.205620112913, 28.777750465179, 36.951996947761, 54.280234627062
Object ID Field:
Fields:
None
Default Mosaic Method: Center
Allowed Mosaic Methods:
SortField:
SortValue: null
Mosaic Operator: First
Default Compression Quality: 75
Default Resampling Method: Bilinear
Max Record Count: null
Max Image Height: 4100
Max Image Width: 15000
Max Download Image Count: null
Max Mosaic Image Count: null
Allow Raster Function: true
Allow Copy: true
Allow Analysis: true
Allow Compute TiePoints: false
Supports Statistics: false
Supports Advanced Queries: false
Use StandardizedQueries: true
Raster Type Infos:
Name: Raster Dataset
Description: Supports all ArcGIS Raster Datasets
Help:
Has Raster Attribute Table: false
Edit Fields Info: null
Ownership Based AccessControl For Rasters: null
Child Resources:
Info
Histograms
Statistics
Key Properties
Legend
Raster Function Infos
Supported Operations:
Export Image
Identify
Measure
Compute Histograms
Compute Statistics Histograms
Get Samples
Compute Class Statistics
Query Boundary
Compute Pixel Location
Compute Angles
Validate
Project