View In:
ArcGIS JavaScript
ArcGIS Online Map Viewer
ArcGIS Earth
Service Description: Based on inductive modeling of 265 species of birds that breed in Montana. Data are binned into 10 quantiles (equal area categories), with 1 having the lowest number of species predicted to be present and 10 having the greatest number.
Name: NHP/Bird_Biodiversity
Description: Based on inductive modeling of 265 species of birds that breed in Montana. Data are binned into 10 quantiles (equal area categories), with 1 having the lowest number of species predicted to be present and 10 having the greatest number.
Single Fused Map Cache: false
Extent:
XMin: 103450.98067646346
YMin: 11771.012471508933
XMax: 1041340.9806764635
YMax: 556001.0124715089
Spatial Reference: 32100
(32100)
LatestVCSWkid(0)
Initial Extent:
XMin: 103450.98067646346
YMin: 11771.012471508933
XMax: 1041340.9806764635
YMax: 556001.0124715089
Spatial Reference: 32100
(32100)
LatestVCSWkid(0)
Full Extent:
XMin: 103450.98067646346
YMin: 11771.012471508933
XMax: 1041340.9806764635
YMax: 556001.0124715089
Spatial Reference: 32100
(32100)
LatestVCSWkid(0)
Pixel Size X: 90.0
Pixel Size Y: 90.0
Band Count: 3
Pixel Type: U8
RasterFunction Infos: {"rasterFunctionInfos": [{
"name": "None",
"description": "",
"help": ""
}]}
Mensuration Capabilities: Basic
Inspection Capabilities:
Has Histograms: false
Has Colormap: false
Has Multi Dimensions : false
Rendering Rule:
Min Scale: 0
Max Scale: 0
Resampling: false
Copyright Text: MTNHP
Service Data Type: esriImageServiceDataTypeRGB
Min Values: N/A
Max Values: N/A
Mean Values: N/A
Standard Deviation Values: N/A
Object ID Field:
Fields:
None
Default Mosaic Method: Center
Allowed Mosaic Methods:
SortField:
SortValue: null
Mosaic Operator: First
Default Compression Quality: 75
Default Resampling Method: Bilinear
Max Record Count: null
Max Image Height: 4100
Max Image Width: 15000
Max Download Image Count: null
Max Mosaic Image Count: null
Allow Raster Function: true
Allow Copy: true
Allow Analysis: true
Allow Compute TiePoints: false
Supports Statistics: false
Supports Advanced Queries: false
Use StandardizedQueries: true
Raster Type Infos:
Name: Raster Dataset
Description: Supports all ArcGIS Raster Datasets
Help:
Has Raster Attribute Table: false
Edit Fields Info: null
Ownership Based AccessControl For Rasters: null
Child Resources:
Info
Statistics
Key Properties
Legend
Raster Function Infos
Supported Operations:
Export Image
Identify
Measure
Compute Histograms
Compute Statistics Histograms
Get Samples
Compute Class Statistics
Query Boundary
Compute Pixel Location
Compute Angles
Validate
Project