View In:
ArcGIS JavaScript
ArcGIS Online Map Viewer
ArcGIS Earth
Service Description: GEOINFO/LidarRelativeElevationModel
Name: GEOINFO/LidarRelativeElevationModel
Description:
Single Fused Map Cache: false
Extent:
XMin: 221849.58698000005
YMin: 107437.11728
XMax: 731476.5890600001
YMax: 470408.13632000005
Spatial Reference: 103093
(6514)
LatestVCSWkid(0)
Initial Extent:
XMin: 221849.58698000005
YMin: 107437.11728
XMax: 731476.5890600001
YMax: 470408.13632000005
Spatial Reference: 103093
(6514)
LatestVCSWkid(0)
Full Extent:
XMin: 221849.58698000005
YMin: 107437.11728
XMax: 731476.5890600001
YMax: 470408.13632000005
Spatial Reference: 103093
(6514)
LatestVCSWkid(0)
Pixel Size X: 0.4267200000000001
Pixel Size Y: 0.42672000000000004
Band Count: 1
Pixel Type: F32
RasterFunction Infos: {"rasterFunctionInfos": [
{
"name": "None",
"description": "Make a Raster or Raster Dataset into a Function Raster Dataset.",
"help": ""
},
{
"name": "Stretched - BlueGreen",
"description": "Stretched Continuous Classification",
"help": ""
},
{
"name": "Stretched - Meters",
"description": "A raster function template.",
"help": ""
},
{
"name": "Stretched - Oslo Trans",
"description": "Stretched Symbology",
"help": ""
},
{
"name": "Stretched - Turbid",
"description": "Stretched Continuous Classification",
"help": ""
}
]}
Mensuration Capabilities: None
Inspection Capabilities:
Has Histograms: true
Has Colormap: false
Has Multi Dimensions : false
Rendering Rule:
Min Scale: 0
Max Scale: 0
Resampling: false
Copyright Text:
Service Data Type: esriImageServiceDataTypeGeneric
Min Values: -23.157703399658203
Max Values: 693.2257690429688
Mean Values: 9.110880265690817
Standard Deviation Values: 19.95757618628616
Object ID Field: OBJECTID
Fields:
-
OBJECTID
(
type: esriFieldTypeOID, alias: OBJECTID
)
-
Shape
(
type: esriFieldTypeGeometry, alias: Shape
)
-
Name
(
type: esriFieldTypeString, alias: Name, length: 200
)
-
MinPS
(
type: esriFieldTypeDouble, alias: MinPS
)
-
MaxPS
(
type: esriFieldTypeDouble, alias: MaxPS
)
-
LowPS
(
type: esriFieldTypeDouble, alias: LowPS
)
-
HighPS
(
type: esriFieldTypeDouble, alias: HighPS
)
-
Category
(
type: esriFieldTypeInteger, alias: Category
, Coded Values:
[0: Unknown]
, [1: Primary]
, [2: Overview]
, ...6 more...
)
-
Tag
(
type: esriFieldTypeString, alias: Tag, length: 100
)
-
GroupName
(
type: esriFieldTypeString, alias: GroupName, length: 100
)
-
ProductName
(
type: esriFieldTypeString, alias: ProductName, length: 100
)
-
CenterX
(
type: esriFieldTypeDouble, alias: CenterX
)
-
CenterY
(
type: esriFieldTypeDouble, alias: CenterY
)
-
ZOrder
(
type: esriFieldTypeInteger, alias: ZOrder
)
-
Shape_Length
(
type: esriFieldTypeDouble, alias: Shape_Length
)
-
Shape_Area
(
type: esriFieldTypeDouble, alias: Shape_Area
)
-
TypeID_1
(
type: esriFieldTypeInteger, alias: Raster Type ID
)
-
ItemTS_1
(
type: esriFieldTypeDouble, alias: ItemTS_1
)
-
UriHash_1
(
type: esriFieldTypeString, alias: UriHash_1, length: 50
)
-
Project_Pkey
(
type: esriFieldTypeString, alias: Project_Pkey, length: 50
)
-
RiverStreamName
(
type: esriFieldTypeString, alias: RiverStreamName, length: 50
)
Default Mosaic Method: Northwest
Allowed Mosaic Methods: NorthWest,Center,LockRaster,ByAttribute,Nadir,Viewpoint,Seamline,None
SortField:
SortValue: null
Mosaic Operator: First
Default Compression Quality: 75
Default Resampling Method: Bilinear
Max Record Count: 1000
Max Image Height: 4100
Max Image Width: 15000
Max Download Image Count: 20
Max Mosaic Image Count: 45
Allow Raster Function: true
Allow Copy: true
Allow Analysis: true
Allow Compute TiePoints: false
Supports Statistics: true
Supports Advanced Queries: true
Use StandardizedQueries: true
Raster Type Infos:
Name: Raster Dataset
Description: Supports all ArcGIS Raster Datasets
Help:
Has Raster Attribute Table: false
Edit Fields Info: null
Ownership Based AccessControl For Rasters: null
Child Resources:
Info
Histograms
Statistics
Key Properties
Legend
Raster Function Infos
Supported Operations:
Export Image
Query
Identify
Compute Histograms
Compute Statistics Histograms
Get Samples
Compute Class Statistics
Query GPS Info
Find Images
Image to Map
Map to Image
Measure from Image
Image to Map Multiray
Query Boundary
Compute Pixel Location
Compute Angles
Validate
Project